BEGIN:VCALENDAR
VERSION:2.0
PRODID:-//Domestic Violence Resource Center - ECPv6.15.18//NONSGML v1.0//EN
CALSCALE:GREGORIAN
METHOD:PUBLISH
X-WR-CALNAME:Domestic Violence Resource Center
X-ORIGINAL-URL:https://www.dvrc-or.org
X-WR-CALDESC:Events for Domestic Violence Resource Center
REFRESH-INTERVAL;VALUE=DURATION:PT1H
X-Robots-Tag:noindex
X-PUBLISHED-TTL:PT1H
BEGIN:VTIMEZONE
TZID:UTC
BEGIN:STANDARD
TZOFFSETFROM:+0000
TZOFFSETTO:+0000
TZNAME:UTC
DTSTART:20230101T000000
END:STANDARD
END:VTIMEZONE
BEGIN:VEVENT
DTSTART;TZID=UTC:20240709T170000
DTEND;TZID=UTC:20240709T193000
DTSTAMP:20260419T002648
CREATED:20240625T165127Z
LAST-MODIFIED:20240625T165132Z
UID:2711-1720544400-1720553400@www.dvrc-or.org
SUMMARY:Teen Health Expo
DESCRIPTION:Stop by our table at the Teen Health Expo to pick up DVRC info! This is a FREE event that is open to the public. \n \n 
URL:https://www.dvrc-or.org/event/teen-health-expo/
LOCATION:Neighborhood Health Center\, 266 West Main St\, Hillsboro\, OR\, 97124\, United States
END:VEVENT
END:VCALENDAR