BEGIN:VCALENDAR
VERSION:2.0
PRODID:-//Domestic Violence Resource Center - ECPv6.15.18//NONSGML v1.0//EN
CALSCALE:GREGORIAN
METHOD:PUBLISH
X-WR-CALNAME:Domestic Violence Resource Center
X-ORIGINAL-URL:https://www.dvrc-or.org
X-WR-CALDESC:Events for Domestic Violence Resource Center
REFRESH-INTERVAL;VALUE=DURATION:PT1H
X-Robots-Tag:noindex
X-PUBLISHED-TTL:PT1H
BEGIN:VTIMEZONE
TZID:UTC
BEGIN:STANDARD
TZOFFSETFROM:+0000
TZOFFSETTO:+0000
TZNAME:UTC
DTSTART:20230101T000000
END:STANDARD
END:VTIMEZONE
BEGIN:VEVENT
DTSTART;TZID=UTC:20240630T110000
DTEND;TZID=UTC:20240630T170000
DTSTAMP:20260417T064935
CREATED:20240614T212639Z
LAST-MODIFIED:20240614T212714Z
UID:2690-1719745200-1719766800@www.dvrc-or.org
SUMMARY:Pride Beaverton
DESCRIPTION:Visit us at Pride Beaverton! Stop by our table in the Farmer’s Market parking lot to pick up some DVRC info and Pride goodies! \n \n 
URL:https://www.dvrc-or.org/event/pride-beaverton/
LOCATION:Beaverton\, OR
END:VEVENT
END:VCALENDAR